BEGIN:VCALENDAR
VERSION:2.0
PRODID:-//CITI Program - ECPv6.15.20//NONSGML v1.0//EN
CALSCALE:GREGORIAN
METHOD:PUBLISH
X-ORIGINAL-URL:https://about.citiprogram.org
X-WR-CALDESC:Events for CITI Program
REFRESH-INTERVAL;VALUE=DURATION:PT1H
X-Robots-Tag:noindex
X-PUBLISHED-TTL:PT1H
BEGIN:VTIMEZONE
TZID:America/New_York
BEGIN:DAYLIGHT
TZOFFSETFROM:-0500
TZOFFSETTO:-0400
TZNAME:EDT
DTSTART:20250309T070000
END:DAYLIGHT
BEGIN:STANDARD
TZOFFSETFROM:-0400
TZOFFSETTO:-0500
TZNAME:EST
DTSTART:20251102T060000
END:STANDARD
BEGIN:DAYLIGHT
TZOFFSETFROM:-0500
TZOFFSETTO:-0400
TZNAME:EDT
DTSTART:20260308T070000
END:DAYLIGHT
BEGIN:STANDARD
TZOFFSETFROM:-0400
TZOFFSETTO:-0500
TZNAME:EST
DTSTART:20261101T060000
END:STANDARD
BEGIN:DAYLIGHT
TZOFFSETFROM:-0500
TZOFFSETTO:-0400
TZNAME:EDT
DTSTART:20270314T070000
END:DAYLIGHT
BEGIN:STANDARD
TZOFFSETFROM:-0400
TZOFFSETTO:-0500
TZNAME:EST
DTSTART:20271107T060000
END:STANDARD
END:VTIMEZONE
BEGIN:VEVENT
DTSTART;TZID=America/New_York:20260513T140000
DTEND;TZID=America/New_York:20260513T150000
DTSTAMP:20260419T152703
CREATED:20260409T141941Z
LAST-MODIFIED:20260409T141941Z
UID:61637-1778680800-1778684400@about.citiprogram.org
SUMMARY:NICE Webinar: Beyond Technical Skills - The Human Element of a Cyber Career
DESCRIPTION:Join the NIST for its NICE Webinar\, “Beyond Technical Skills – The Human Element of a Cyber Career” on May 13. This webinar explores the critical role that human and professional skills play in today’s cybersecurity workforce. While technical expertise remains important\, the session focuses on how collaboration\, communication\, and sound decision-making contribute to effective cybersecurity practices in complex and fast-changing environments. \nParticipants will gain insight into the human side of cybersecurity careers\, including why workplace\, professional\, and leadership skills are essential for strengthening teams and organizations. Topics include the value of teamwork\, problem-solving\, and clear communication in supporting responsible actions and building a resilient\, well-rounded cyber workforce. \nVisit the event page for more information.
URL:https://about.citiprogram.org/event/nice-webinar-beyond-technical-skills-the-human-element-of-a-cyber-career/
LOCATION:Online
ATTACH;FMTTYPE=image/png:https://about.citiprogram.org/wp-content/uploads/2025/09/nist-logo.png
END:VEVENT
END:VCALENDAR